BEGIN:VCALENDAR
VERSION:2.0
PRODID:-//evstadtakademie//stadtakademie-muenchen.de//DE
METHOD:PUBLISH
CALSCALE:GREGORIAN
BEGIN:VEVENT
UID:12716@stadtakademie-muenchen.de
DTSTAMP:20260424T025257
DTSTART:20230206T191500
DTEND:20230206T235900
SUMMARY:Die dunkle Seite der Männlichkeit - Männerpalaver zu "MännlichkeitEN"
LOCATION:Evangelische Stadtakademie München, Herzog-Wilhelm-Str. 24, 80331 
DESCRIPTION:Details unter https://www.stadtakademie-muenchen.de/veranstaltung/die-dunkle-seite-der-maennlichkeit/
END:VEVENT
END:VCALENDAR