BEGIN:VCALENDAR
VERSION:2.0
PRODID:-//evstadtakademie//stadtakademie-muenchen.de//DE
METHOD:PUBLISH
CALSCALE:GREGORIAN
BEGIN:VEVENT
UID:12649@stadtakademie-muenchen.de
DTSTAMP:20260424T044258
DTSTART:20230123T191500
DTEND:20230123T235900
SUMMARY:Frauen an die Macht - Männerpalaver zu "MännlichkeitEN"
LOCATION:Evangelische Stadtakademie, Herzog-Wilhelm-Str. 24, 80331 München
DESCRIPTION:Details unter https://www.stadtakademie-muenchen.de/veranstaltung/frauen-an-die-macht/
END:VEVENT
END:VCALENDAR