BEGIN:VCALENDAR
VERSION:2.0
PRODID:-//evstadtakademie//stadtakademie-muenchen.de//DE
METHOD:PUBLISH
CALSCALE:GREGORIAN
BEGIN:VEVENT
UID:12614@stadtakademie-muenchen.de
DTSTAMP:20260424T063628
DTSTART:20221215T180000
DTEND:20221215T235900
SUMMARY:Einfach mal die Welt retten? - Klimaschutz und der Kampf für Gerechtigkeit
LOCATION:Evangelische Stadtakademie München, Herzog-Wilhelm-Str. 24, 80331 München
DESCRIPTION:Details unter https://www.stadtakademie-muenchen.de/veranstaltung/einfach-mal-die-welt-retten/
END:VEVENT
END:VCALENDAR