BEGIN:VCALENDAR
VERSION:2.0
PRODID:-//evstadtakademie//stadtakademie-muenchen.de//DE
METHOD:PUBLISH
CALSCALE:GREGORIAN
BEGIN:VEVENT
UID:12606@stadtakademie-muenchen.de
DTSTAMP:20260424T063446
DTSTART:20221212T190000
DTEND:20221212T235900
SUMMARY:Was Männer kosten - Der hohe Preis des Patriarchats
LOCATION:Evangelische Stadtakademie, Herzog-Wilhelm-Str. 24, 80331 München
DESCRIPTION:Details unter https://www.stadtakademie-muenchen.de/veranstaltung/was-maenner-kosten/
END:VEVENT
END:VCALENDAR