BEGIN:VCALENDAR
VERSION:2.0
PRODID:-//evstadtakademie//stadtakademie-muenchen.de//DE
METHOD:PUBLISH
CALSCALE:GREGORIAN
BEGIN:VEVENT
UID:12585@stadtakademie-muenchen.de
DTSTAMP:20260424T082029
DTSTART:20221204T080000
DTEND:20221204T160000
SUMMARY:Die Säulen der Erde - Adventlicher Pilgertag auf dem Voralpinen Jakobsweg nach Peißenberg
LOCATION:Voralpiner Jakobsweg
DESCRIPTION:Details unter https://www.stadtakademie-muenchen.de/veranstaltung/die-saeulen-der-erde/
END:VEVENT
END:VCALENDAR