BEGIN:VCALENDAR
VERSION:2.0
PRODID:-//evstadtakademie//stadtakademie-muenchen.de//DE
METHOD:PUBLISH
CALSCALE:GREGORIAN
BEGIN:VEVENT
UID:12576@stadtakademie-muenchen.de
DTSTAMP:20260424T081510
DTSTART:20221202T193000
DTEND:20221203T220000
SUMMARY:Die Stärke unserer Schwäche - Seminar, Texte, Austausch mit Ulrich Schaffer
LOCATION:Online via Zoom
DESCRIPTION:Details unter https://www.stadtakademie-muenchen.de/veranstaltung/die-staerke-unserer-schwaeche/
END:VEVENT
END:VCALENDAR