BEGIN:VCALENDAR
VERSION:2.0
PRODID:-//evstadtakademie//stadtakademie-muenchen.de//DE
METHOD:PUBLISH
CALSCALE:GREGORIAN
BEGIN:VEVENT
UID:12558@stadtakademie-muenchen.de
DTSTAMP:20260424T082252
DTSTART:20221129T190000
DTEND:20221129T235900
SUMMARY:Achtsamkeit in der Kommunikation
LOCATION:Evangelische Stadtakademie München, Herzog-Wilhelm-Str. 24, 80331 München
DESCRIPTION:Details unter https://www.stadtakademie-muenchen.de/veranstaltung/achtsamkeit-in-der-kommunikation-2/
END:VEVENT
END:VCALENDAR