BEGIN:VCALENDAR
VERSION:2.0
PRODID:-//evstadtakademie//stadtakademie-muenchen.de//DE
METHOD:PUBLISH
CALSCALE:GREGORIAN
BEGIN:VEVENT
UID:12504@stadtakademie-muenchen.de
DTSTAMP:20260424T101315
DTSTART:20221025T190000
DTEND:20221025T235900
SUMMARY:Die heilsame Wirkung des Pilgerns - Zwei Pilgerberührte berichten, wie das Pilgern zur Heilung im Leben beitragen konnte
LOCATION:Online via Zoom
DESCRIPTION:Details unter https://www.stadtakademie-muenchen.de/veranstaltung/die-heilsame-wirkung-des-pilgerns/
END:VEVENT
END:VCALENDAR