BEGIN:VCALENDAR
VERSION:2.0
PRODID:-//evstadtakademie//stadtakademie-muenchen.de//DE
METHOD:PUBLISH
CALSCALE:GREGORIAN
BEGIN:VEVENT
UID:11147@stadtakademie-muenchen.de
DTSTAMP:20260424T143328
DTSTART:20220202T190000
DTEND:20220209T210000
SUMMARY:Resilienz - die innere Stärke, psychisch gesund zu bleiben - VERSCHOBEN auf Oktober 2022
LOCATION:Evangelische Stadtakademie München, Herzog-Wilhelm-Str. 24, 80331 München
DESCRIPTION:Details unter https://www.stadtakademie-muenchen.de/veranstaltung/resilienz-die-innere-staerke-psychisch-gesund-zu-bleiben-2/
END:VEVENT
END:VCALENDAR