BEGIN:VCALENDAR
VERSION:2.0
PRODID:-//evstadtakademie//stadtakademie-muenchen.de//DE
METHOD:PUBLISH
CALSCALE:GREGORIAN
BEGIN:VEVENT
UID:11135@stadtakademie-muenchen.de
DTSTAMP:20260424T161335
DTSTART:20220224T190000
DTEND:20220224T235900
SUMMARY:Friedrich Pollock - Die Veranstaltung muss leider aus gesundheitlichen Gründen abgesagt werden. Wir bitten um Verständnis.
LOCATION:Evangelische Stadtakademie München, Herzog-Wilhelm-Str. 24, 80331 München
DESCRIPTION:Details unter https://www.stadtakademie-muenchen.de/veranstaltung/friedrich-pollock/
END:VEVENT
END:VCALENDAR