BEGIN:VCALENDAR
VERSION:2.0
PRODID:-//evstadtakademie//stadtakademie-muenchen.de//DE
METHOD:PUBLISH
CALSCALE:GREGORIAN
BEGIN:VEVENT
UID:11119@stadtakademie-muenchen.de
DTSTAMP:20260420T094848
DTSTART:20220203T190000
DTEND:20220203T235900
SUMMARY:Noch im Werden: - Hamburg Oberbillwerder - ONLINE
LOCATION:online via ZOOM
DESCRIPTION:Details unter https://www.stadtakademie-muenchen.de/veranstaltung/noch-im-werden/
END:VEVENT
END:VCALENDAR