BEGIN:VCALENDAR
VERSION:2.0
PRODID:-//evstadtakademie//stadtakademie-muenchen.de//DE
METHOD:PUBLISH
CALSCALE:GREGORIAN
BEGIN:VEVENT
UID:11030@stadtakademie-muenchen.de
DTSTAMP:20260424T193710
DTSTART:20220119T183000
DTEND:20220309T210000
SUMMARY:Stressbewältigung durch Achtsamkeit - MBSR-Acht-Wochen-Kurs - ONLINE
LOCATION:Online via Zoom
DESCRIPTION:Details unter https://www.stadtakademie-muenchen.de/veranstaltung/stressbewaeltigung-durch-achtsamkeit-10/
END:VEVENT
END:VCALENDAR